BEGIN:VCALENDAR
VERSION:2.0
PRODID:-//DPNR - ECPv5.3.1.1//NONSGML v1.0//EN
CALSCALE:GREGORIAN
METHOD:PUBLISH
X-WR-CALNAME:DPNR
X-ORIGINAL-URL:https://dpnr.vi.gov
X-WR-CALDESC:Events for DPNR
BEGIN:VTIMEZONE
TZID:UTC
BEGIN:STANDARD
TZOFFSETFROM:+0000
TZOFFSETTO:+0000
TZNAME:UTC
DTSTART:20180101T000000
END:STANDARD
END:VTIMEZONE
BEGIN:VEVENT
DTSTART;TZID=UTC:20181007T180000
DTEND;TZID=UTC:20181007T200000
DTSTAMP:20210513T011532
CREATED:20181003T151311Z
LAST-MODIFIED:20181003T151311Z
UID:808-1538935200-1538942400@dpnr.vi.gov
SUMMARY:Community Speaker Event
DESCRIPTION:
URL:https://dpnr.vi.gov/event/community-speaker-event/
LOCATION:Thirteen Restaurant\, St. Thomas
CATEGORIES:Education & Outreach
END:VEVENT
END:VCALENDAR