BEGIN:VCALENDAR
VERSION:2.0
PRODID:-//DPNR - ECPv5.3.1.1//NONSGML v1.0//EN
CALSCALE:GREGORIAN
METHOD:PUBLISH
X-WR-CALNAME:DPNR
X-ORIGINAL-URL:https://dpnr.vi.gov
X-WR-CALDESC:Events for DPNR
BEGIN:VTIMEZONE
TZID:UTC
BEGIN:STANDARD
TZOFFSETFROM:+0000
TZOFFSETTO:+0000
TZNAME:UTC
DTSTART:20180101T000000
END:STANDARD
END:VTIMEZONE
BEGIN:VEVENT
DTSTART;TZID=UTC:20181013T100000
DTEND;TZID=UTC:20181013T110000
DTSTAMP:20210513T011551
CREATED:20181009T205924Z
LAST-MODIFIED:20181010T151852Z
UID:839-1539424800-1539428400@dpnr.vi.gov
SUMMARY:October Science Saturday
DESCRIPTION:
URL:https://dpnr.vi.gov/event/october-science-saturday/
LOCATION:Lattes in Paradise\, American Yacht Harbor\, St. Thomas
CATEGORIES:Education & Outreach
END:VEVENT
END:VCALENDAR