BEGIN:VCALENDAR
VERSION:2.0
PRODID:-//DPNR - ECPv5.3.1.1//NONSGML v1.0//EN
CALSCALE:GREGORIAN
METHOD:PUBLISH
X-WR-CALNAME:DPNR
X-ORIGINAL-URL:https://dpnr.vi.gov
X-WR-CALDESC:Events for DPNR
BEGIN:VTIMEZONE
TZID:UTC
BEGIN:STANDARD
TZOFFSETFROM:+0000
TZOFFSETTO:+0000
TZNAME:UTC
DTSTART:20180101T000000
END:STANDARD
END:VTIMEZONE
BEGIN:VEVENT
DTSTART;TZID=UTC:20181027T160000
DTEND;TZID=UTC:20181027T190000
DTSTAMP:20210513T011610
CREATED:20181010T152429Z
LAST-MODIFIED:20181010T152429Z
UID:842-1540656000-1540666800@dpnr.vi.gov
SUMMARY:Meet the Bats 2018
DESCRIPTION:
URL:https://dpnr.vi.gov/event/meet-the-bats-2018/
LOCATION:Magens Bay\, St. Thomas\, VIRGIN ISLANDS\, 00802
END:VEVENT
END:VCALENDAR